BEGIN:VCALENDAR
VERSION:2.0
PRODID:-//|  BogotArt - ECPv5.3.2.1//NONSGML v1.0//EN
CALSCALE:GREGORIAN
METHOD:PUBLISH
X-WR-CALNAME:|  BogotArt
X-ORIGINAL-URL:https://bogotart.co
X-WR-CALDESC:Eventos para |  BogotArt
BEGIN:VTIMEZONE
TZID:America/Bogota
BEGIN:STANDARD
TZOFFSETFROM:-0500
TZOFFSETTO:-0500
TZNAME:-05
DTSTART:20220101T000000
END:STANDARD
END:VTIMEZONE
BEGIN:VEVENT
DTSTART;TZID=America/Bogota:20220503T080000
DTEND;TZID=America/Bogota:20220630T170000
DTSTAMP:20260425T080631
CREATED:20220503T193442Z
LAST-MODIFIED:20220503T193442Z
UID:294401-1651564800-1656608400@bogotart.co
SUMMARY:X Edición del Concurso Internacional de Fotografía Naturaleza Digital 2022
DESCRIPTION:La X Edición del Concurso Internacional de Fotografía Naturaleza Digital 2022\, se celebrará del 12-17 de septiembre en el Paisaje Natural Protegido Topes de Collantes\, que abarca una superficie de más de veinte mil hectáreas de las provincias de Villa Clara\, Cienfuegos y Sancti Spíritus\, con elevaciones que oscilan entre los 250 y 900 metros sobre el nivel del mar. \nBases: \n\nPodrán participar todas las personas que lo deseen\, ya sean profesionales o aficionados. La participación incluye servicio de guía\, noche en La Habana\, transporte\, alojamiento y alimentación durante 5 días en el Hotel los Helechos.\nFueron premiadas 19 fotografías en las 4 categorías habituales del concurso.\nSe concursará en las siguientes CATEGORÍAS:\n\nPAISAJE: Fotografías de escenarios de este Paisaje Natural Protegido; y de cada uno de sus parques temáticos\, incluyendo fenómenos naturales\, procesos geológicos\, condiciones climáticas\, montañas\, bosques\, ríos\, riachuelos\, cascadas y saltos de agua\, y en general toda clase de ambiente natural que no haya sido sustancialmente alterado por el hombre\, o que persista a pesar de la intervención humana.\nFLORA Y FAUNA: Plantas y animales en su ambiente natural\, destacando el comportamiento de las especies y características particulares.\nHOMBRE Y NATURALEZA: Imágenes que ilustren tanto el cuidado del ambiente\, como los problemas que surgen de la polución\, la deforestación indiscriminada y otros eventos que atenten contra la Naturaleza. Representación de los modos de vida de los habitantes de Topes de Collantes\, sus costumbres y cultura popular; las fiestas\, tradiciones e idiosincrasia.\nMACRO-FOTOGRAFÍA: Comúnmente se hace referencia con ese nombre al tipo de imagen fotográfica que se toma muy cerca del objeto en cuestión.\n\n\n\nMás información e inscripción acá
URL:https://bogotart.co/event/x-edicion-del-concurso-internacional-de-fotografia-naturaleza-digital-2022/
CATEGORIES:Convocatorias
ATTACH;FMTTYPE=image/jpeg:https://bogotart.co/bogotart/wp-content/uploads/2022/05/concurso-naturaleza.jpg
END:VEVENT
END:VCALENDAR