BEGIN:VCALENDAR
VERSION:2.0
PRODID:-//|  BogotArt - ECPv5.3.2.1//NONSGML v1.0//EN
CALSCALE:GREGORIAN
METHOD:PUBLISH
X-WR-CALNAME:|  BogotArt
X-ORIGINAL-URL:https://bogotart.co
X-WR-CALDESC:Eventos para |  BogotArt
BEGIN:VTIMEZONE
TZID:America/Bogota
BEGIN:STANDARD
TZOFFSETFROM:-0500
TZOFFSETTO:-0500
TZNAME:-05
DTSTART:20220101T000000
END:STANDARD
END:VTIMEZONE
BEGIN:VEVENT
DTSTART;TZID=America/Bogota:20220507T080000
DTEND;TZID=America/Bogota:20220612T170000
DTSTAMP:20260424T193204
CREATED:20220503T180655Z
LAST-MODIFIED:20220503T180655Z
UID:294391-1651910400-1655053200@bogotart.co
SUMMARY:Para los tiempos que corren – Adrián Gaitán // Mancha roja - Ivan Navarro
DESCRIPTION:Para los tiempos que corren – Adrián Gaitán \nDel 7 de mayo al 12 de junio \nEl proyecto plantea un juego de desplazamientos espaciales y semióticos\, incierto e inestable\, con el que se interroga por los recursos simbólicos y físicos de los que disponen las instituciones que concentran poder económico\, político o religioso. Estas instituciones (petroleras\, religiosas y artísticas) construyen un complejo entramado de gestos e imágenes\, recursos simbólicos y reales para legitimar su poder. \nMás información acá  \nMancha roja – Iván Navarro \nDel 7 de mayo al 12 de junio \nLa expresión mancha roja\, sugerida por algún medio de comunicación\, tomó fuerza cuando comenzó a funcionar TransMilenio\, hace veinte años. Y no era para menos: las imágenes reflejaban cientos de buses rojos moviéndose en fila india por las calles de Bogotá. En ese ir y venir eterno\, los usuarios hemos sido víctimas de hacinamientos\, robos\, acosos\, protestas\, etc. Pero\, no todo ha sido tóxico: también hemos presenciado manifestaciones artísticas y otros hechos insólitos que se han apropiado del interior de los articulados\, lugares para la libre expresión y el emprendimiento económico. \nMás información acá 
URL:https://bogotart.co/event/para-los-tiempos-que-corren-adrian-gaitan-mancha-roja-ivan-navarro/
LOCATION:Galería Santa Fe (Cra 1a entre 12c y 12d)
CATEGORIES:Exposiciones
ATTACH;FMTTYPE=image/jpeg:https://bogotart.co/bogotart/wp-content/uploads/2022/05/para-los-tiempos-corren.jpg
END:VEVENT
END:VCALENDAR