BEGIN:VCALENDAR
VERSION:2.0
PRODID:-//|  BogotArt - ECPv5.3.2.1//NONSGML v1.0//EN
CALSCALE:GREGORIAN
METHOD:PUBLISH
X-WR-CALNAME:|  BogotArt
X-ORIGINAL-URL:https://bogotart.co
X-WR-CALDESC:Eventos para |  BogotArt
BEGIN:VTIMEZONE
TZID:America/Bogota
BEGIN:STANDARD
TZOFFSETFROM:-0500
TZOFFSETTO:-0500
TZNAME:-05
DTSTART:20220101T000000
END:STANDARD
END:VTIMEZONE
BEGIN:VEVENT
DTSTART;TZID=America/Bogota:20220729T080000
DTEND;TZID=America/Bogota:20220731T170000
DTSTAMP:20260419T145643
CREATED:20220719T195927Z
LAST-MODIFIED:20220719T195927Z
UID:294573-1659081600-1659286800@bogotart.co
SUMMARY:#MuseoAbiertoDeBogotá
DESCRIPTION:Del 29 al 31 de julio recorre la ciudad con #MuseoAbiertoDeBogotá \nMuseo Abierto de Bogotá es una iniciativa del Instituto Distrital de las Artes – Idartes que constituye una estrategia para darle visibilidad a las intervenciones artísticas permanentes y no permanentes realizadas en el espacio público. Por lo tanto\, les invitamos a participar en los recorridos que se planean para este año 2022\, en los cuales se les contará sobre cada una de las intervenciones permanentes que hacen parte del recorrido y se encuentran en varios puntos de la ciudad. \nLos recorridos cuentan con el acompañamiento de la Escuela de Mediación Red GSF\, la cual mediante ejercicios pedagógicos propondrá espacios de diálogo entre lxs visitantes y las intervenciones artísticas. \nSanta fé y Candelaria: Julio 29 – Google meet \nCentro: Julio 30 – Recorrido a pie \nFontibon y Puente Aranda: Julio 31 – Recorido en bicicleta \nInscripciones acá \n 
URL:https://bogotart.co/event/museoabiertodebogota/
CATEGORIES:Exposiciones
ATTACH;FMTTYPE=image/jpeg:https://bogotart.co/bogotart/wp-content/uploads/2022/07/mab.jpg
END:VEVENT
END:VCALENDAR