BEGIN:VCALENDAR
VERSION:2.0
PRODID:-//|  BogotArt - ECPv5.3.2.1//NONSGML v1.0//EN
CALSCALE:GREGORIAN
METHOD:PUBLISH
X-WR-CALNAME:|  BogotArt
X-ORIGINAL-URL:https://bogotart.co
X-WR-CALDESC:Eventos para |  BogotArt
BEGIN:VTIMEZONE
TZID:America/Bogota
BEGIN:STANDARD
TZOFFSETFROM:-0500
TZOFFSETTO:-0500
TZNAME:-05
DTSTART:20220101T000000
END:STANDARD
END:VTIMEZONE
BEGIN:VEVENT
DTSTART;TZID=America/Bogota:20220723T110000
DTEND;TZID=America/Bogota:20220903T110000
DTSTAMP:20260419T093303
CREATED:20220721T190649Z
LAST-MODIFIED:20220721T192034Z
UID:294577-1658574000-1662202800@bogotart.co
SUMMARY:Mares - Jaime Sicilia
DESCRIPTION:La belleza repara \n\nEs la idea central en el desarrollo del trabajo del artista visual y arquitecto: Jaime Sicilia. Como artista visual trabajó en proyectos multidisciplinares mediante la pintura\, escultura\, fotografía y vídeo. \nSardinas (2011) es parte de una amplia reflexión sobre las inteligencias colectivas y la percepción de valor del individuo frente al colectivo. Cuentos (2011) aborda a través de la fotografía la complejidad de las estructuras narrativas de las historias sencillas. Seascapes (2016) es una\nintrospección\, una propuesta de viaje interior basada en el color\, la luz\, la materia\, el espacio y el tiempo. Amapolas (2017) es una reflexión sobre el amor y la belleza como retos fundamentales del ser humano\, que lleva toda una vida llegar a comprender. \nWaldweben (2019) trata de atrapar el momento en el que conectamos con lo sublime desde lo bello (El bosque de Sigfrido\, Wagner). Silencio (2020) es una exploración física sobre la ausencia en términos absolutos. \nExposciones individuales: \n\n2022. Adrián Ibáñez Galería\, Bogotá\, Colombia.\n2020. Galería Aba Art Lab\, Palma\, España\n2020. Galería Rodrigo Juarranz\, Aranda de Duero\, España.\n2017-18. Galería Aba Art Lab\, Palma\, España.\n2017. Galería Benot\, Cádiz\, España
URL:https://bogotart.co/event/mares-jaime-sicilia/
LOCATION:Galería Adrián Ibáñez (Cll 72A # 22-35)
CATEGORIES:Exposiciones
ATTACH;FMTTYPE=image/jpeg:https://bogotart.co/bogotart/wp-content/uploads/2022/07/mares2.jpg
END:VEVENT
END:VCALENDAR