BEGIN:VCALENDAR
VERSION:2.0
PRODID:-//|  BogotArt - ECPv5.3.2.1//NONSGML v1.0//EN
CALSCALE:GREGORIAN
METHOD:PUBLISH
X-WR-CALNAME:|  BogotArt
X-ORIGINAL-URL:https://bogotart.co
X-WR-CALDESC:Eventos para |  BogotArt
BEGIN:VTIMEZONE
TZID:America/Bogota
BEGIN:STANDARD
TZOFFSETFROM:-0500
TZOFFSETTO:-0500
TZNAME:-05
DTSTART:20220101T000000
END:STANDARD
END:VTIMEZONE
BEGIN:VEVENT
DTSTART;TZID=America/Bogota:20220524T080000
DTEND;TZID=America/Bogota:20220605T170000
DTSTAMP:20260424T095910
CREATED:20220524T165047Z
LAST-MODIFIED:20220524T165047Z
UID:294456-1653379200-1654448400@bogotart.co
SUMMARY:Live painting mapping con el artista Jacques André Dupont
DESCRIPTION:Durante el mes de julio\, la Alianza Francesa de Bogotá desarrollará una residencia de co-creación de Live Paint Mapping con el artista Jacques André Dupont que se llevará a cabo los días 15\, 16 y 17 de julio en la ciudad de Bogotá. \nCon el ánimo de reconocer a los artistas locales y fortalecer el intercambio cultural\, la Alianza Francesa de Bogotá invita a DJs\, productores musicales y artistas gráficos a participar en esta convocatoria\, que estará abierta del 23 de mayo al 5 de junio de 2022. Los artistas seleccionados participarán en las actividades lideradas por el artista Jacques André Dupont. \nPremios: \n\nSerá seleccionado/a una o un artista gráfico/a\, quien tendrá la oportunidad de participar en la residencia de co-creación de Live Paint Mapping durante 3 días\, organizada por la la Alianza Francesa de Bogotá durante el 15\,16 y 17 de julio de 2022.\nAdicional a ello recibirán una retribución económica de $1’000.000.*\n\nMás información acá \nBases completas acá
URL:https://bogotart.co/event/live-painting-mapping-con-el-artista-jacques-andre-dupont/
CATEGORIES:Convocatorias
ATTACH;FMTTYPE=image/jpeg:https://bogotart.co/bogotart/wp-content/uploads/2022/05/live-paintin.jpg
END:VEVENT
END:VCALENDAR