BEGIN:VCALENDAR
VERSION:2.0
PRODID:-//|  BogotArt - ECPv5.3.2.1//NONSGML v1.0//EN
CALSCALE:GREGORIAN
METHOD:PUBLISH
X-WR-CALNAME:|  BogotArt
X-ORIGINAL-URL:https://bogotart.co
X-WR-CALDESC:Eventos para |  BogotArt
BEGIN:VTIMEZONE
TZID:America/Bogota
BEGIN:STANDARD
TZOFFSETFROM:-0500
TZOFFSETTO:-0500
TZNAME:-05
DTSTART:20220101T000000
END:STANDARD
END:VTIMEZONE
BEGIN:VEVENT
DTSTART;TZID=America/Bogota:20220527T200000
DTEND;TZID=America/Bogota:20220527T233000
DTSTAMP:20260424T033625
CREATED:20220524T161644Z
LAST-MODIFIED:20220524T161644Z
UID:294449-1653681600-1653694200@bogotart.co
SUMMARY:La Etnnia 5-27
DESCRIPTION:La franja ensueño polifónico presenta a la legendaria agrupación colombiana La Etnnia\, que marcó el hip hop colombiano a comienzos de la década de los 90. Muchos de sus álbumes\, desde Criminología\, Real y el Ataque del Metano\, considerado como el mejor de hip hop en Colombia\, hoy son placas infaltables de la discografía nacional. \nDesde su creación\, el número 5-27 del barrio de las cruces ha sido parte esencial de la agrupación. Evocando este\, La Etnnia presenta este 27 de mayo un homenaje contundente a su número icónico. \nBoletería en TuBoleta: Desde 34K hasta 50K
URL:https://bogotart.co/event/la-etnnia-5-27/
CATEGORIES:Conciertos
ATTACH;FMTTYPE=image/jpeg:https://bogotart.co/bogotart/wp-content/uploads/2022/05/La-etnia.jpg
END:VEVENT
END:VCALENDAR