BEGIN:VCALENDAR
VERSION:2.0
PRODID:-//|  BogotArt - ECPv5.3.2.1//NONSGML v1.0//EN
CALSCALE:GREGORIAN
METHOD:PUBLISH
X-WR-CALNAME:|  BogotArt
X-ORIGINAL-URL:https://bogotart.co
X-WR-CALDESC:Eventos para |  BogotArt
BEGIN:VTIMEZONE
TZID:America/Bogota
BEGIN:STANDARD
TZOFFSETFROM:-0500
TZOFFSETTO:-0500
TZNAME:-05
DTSTART:20220101T000000
END:STANDARD
END:VTIMEZONE
BEGIN:VEVENT
DTSTART;TZID=America/Bogota:20220616T080000
DTEND;TZID=America/Bogota:20220904T170000
DTSTAMP:20260419T192653
CREATED:20220614T203630Z
LAST-MODIFIED:20220614T203630Z
UID:294525-1655366400-1662310800@bogotart.co
SUMMARY:Full - Mariangela Levita
DESCRIPTION:Full es la primera exposición institucional en Sudamérica dedicada a la obra de la artista italiana Mariangela Levita\, cuyo trabajo de alrededor de 30 años\, aborda los límites de la pintura como medio artístico. Su investigación desafía la arquitectura de los lugares que interviene\, y de esta manera\, desarrolla una idea expandida de pintura en la que mezcla la representación pictórica con el entorno circundante. \nEl adjetivo “full” indica algo que está lleno\, sin ningún espacio restante. “The measure is full to the brim» [La medida está a tope] es una expresión que remite a la sensación colectiva de haber alcanzado un límite\, una saciedad o saturación; en este caso\, relacionada particularmente con los eventos de los noticiarios y con el descontento general por los acontecimientos actuales. \nFull es una exposición que consiste en una serie de obras site-specific instaladas dentro y fuera del Museo\, entre ellas se encuentran: Full View [Vista total] (2022)\, Full Color [Color total] (2022) y Full Evolution Test [Prueba de evolución completa] (2022). La muestra confirma el interés que Mariangela Levita tiene en la pintura como lugar de transformación de diferentes medios artísticos. Su rigurosa investigación comprende apariciones ópticas y efectos hipnóticos que invitan al espectador a percibir los ritmos del espacio\, a medida que cambian y evolucionan. \nMás información acá
URL:https://bogotart.co/event/full-mariangela-levita/
LOCATION:MAMBO – Museo de Arte Moderno de Bogotá (Calle 24 #6-00)
CATEGORIES:Exposiciones
ATTACH;FMTTYPE=image/jpeg:https://bogotart.co/bogotart/wp-content/uploads/2022/06/levita.jpg
END:VEVENT
END:VCALENDAR