BEGIN:VCALENDAR
VERSION:2.0
PRODID:-//|  BogotArt - ECPv5.3.2.1//NONSGML v1.0//EN
CALSCALE:GREGORIAN
METHOD:PUBLISH
X-WR-CALNAME:|  BogotArt
X-ORIGINAL-URL:https://bogotart.co
X-WR-CALDESC:Eventos para |  BogotArt
BEGIN:VTIMEZONE
TZID:America/Bogota
BEGIN:STANDARD
TZOFFSETFROM:-0500
TZOFFSETTO:-0500
TZNAME:-05
DTSTART:20220101T000000
END:STANDARD
END:VTIMEZONE
BEGIN:VEVENT
DTSTART;TZID=America/Bogota:20220503T080000
DTEND;TZID=America/Bogota:20220610T170000
DTSTAMP:20260425T062249
CREATED:20220503T194251Z
LAST-MODIFIED:20220503T194251Z
UID:294406-1651564800-1654880400@bogotart.co
SUMMARY:Fotoprimavera 2022
DESCRIPTION:Bases: \n\nCada participante puede presentar un máximo de tres fotografías de temática meteorológica tomadas en los meses de marzo\, abril y mayo de 2021\, no pudiendo presentar más de una fotografía de cada mes.\nPara participar se deberán completar estos dos pasos:\n\n1º Subir las fotografías a la Galería Fotometeo de la AME.\n2º Enviar el formulario de participación. Al subir las fotografías a Fotometeo se deberán rellenar correctamente los campos.\n\n\nRequisitos a cumplir por las fotografías:\n\nLas fotografías deberán mostrar contenido específicamente relacionado con la Meteorología (nubes y/o fenómenos meteorológicos)\, y tener suficiente calidad de imagen.\nLas fotografías nocturnas de cielos estrellados o\, en general\, de temática astronómica no serán admitidas.\nLos archivos se subirán a la galería en formato jpg\, con una resolución máxima de 1024 píxeles por su lado mayor\, y un tamaño de archivo máximo de 500 kb.\nSe admitirán fotografías en color o en blanco y negro\, sin retocar o sobre las que se hayan realizado ligeros ajustes (luminosidad\, contraste\, sobreexposición\, subexposición\, eliminación de manchas\, reducción del ruido\, recortes\, etc.)\, incluyendo el tratamiento HDR\, siempre que la edición no haya afectado sustancialmente a la naturalidad de la imagen\, ni la aleje excesivamente de la realidad.\nLas fotografías se deberán haber obtenido mediante un solo disparo manual\, de modo que no se admitirán las obtenidas a partir del fusionado posterior mediante software de imágenes individuales captadas en varios disparos (fotomontajes y/o panorámicas).\nLas fotografías no deberán llevar ningún texto o anagrama sobrepuesto.\n\n\n\nPremios: \n\nUna gratificación de 150 euros.\nUn diploma acreditativo.\nDos libros (elegirlos entre la lista dada por ellos).\nLas fotografías más votadas de cada mes será publicadas en la revista “Tiempo y Clima” de la AME\, y se regalará a sus autores una suscripción por un año a la versión digital de la misma. Las diez fotografías con mayor puntuación serán publicadas en la Revista del Aficionado a la Meteorología (RAM).\n\nMás información acá
URL:https://bogotart.co/event/fotoprimavera-2022/
CATEGORIES:Convocatorias
ATTACH;FMTTYPE=image/png:https://bogotart.co/bogotart/wp-content/uploads/2022/05/fotoprimavera.png
END:VEVENT
END:VCALENDAR