BEGIN:VCALENDAR
VERSION:2.0
PRODID:-//|  BogotArt - ECPv5.3.2.1//NONSGML v1.0//EN
CALSCALE:GREGORIAN
METHOD:PUBLISH
X-WR-CALNAME:|  BogotArt
X-ORIGINAL-URL:https://bogotart.co
X-WR-CALDESC:Eventos para |  BogotArt
BEGIN:VTIMEZONE
TZID:America/Bogota
BEGIN:STANDARD
TZOFFSETFROM:-0500
TZOFFSETTO:-0500
TZNAME:-05
DTSTART:20220101T000000
END:STANDARD
END:VTIMEZONE
BEGIN:VEVENT
DTSTART;TZID=America/Bogota:20220407T080000
DTEND;TZID=America/Bogota:20220520T170000
DTSTAMP:20260425T215841
CREATED:20220407T145444Z
LAST-MODIFIED:20220407T145602Z
UID:294351-1649318400-1653066000@bogotart.co
SUMMARY:Festival Mutante
DESCRIPTION:El Festival Mutante es un encuentro con la diversidad artística y las nuevas propuestas musicales de jóvenes de todo el país. Esta nueva apuesta cultural del Museo Nacional de Colombia hace parte del programa Jóvenes+Museo\, que en su primer año de realización cuenta con el apoyo de Ecopetrol y la Asociación Amigos del Museo Nacional. \nEsta oferta musical contará con seis conciertos en vivo que se realizarán en el Auditorio Teresa Cuervo Borda del Museo Nacional con transmisión en línea. Durante la primera parte del festival habrá tres conciertos a cargo de cuatro jóvenes talentos que han hecho carrera en Bogotá y cuyo reconocimiento crece cada día. Luego\, en su recta final\, se presentarán tres talentos regionales jóvenes\, todos artistas menores de veintiocho años\, que llegarán a esta programación mediante una convocatoria. \nPrimera parte: \n\nAguas ardientes\nHa$lopablito\nLa Muchacha\nSantiago Navas\n\nPara ver el cronograma de la primera parte entra acá
URL:https://bogotart.co/event/festival-mutante/
LOCATION:Museo Nacional (Cra 7a # 28 – 66)
CATEGORIES:Conciertos,Festivales
ATTACH;FMTTYPE=image/jpeg:https://bogotart.co/bogotart/wp-content/uploads/2022/04/festival-mutante.jpg
END:VEVENT
END:VCALENDAR