BEGIN:VCALENDAR
VERSION:2.0
PRODID:-//|  BogotArt - ECPv5.3.2.1//NONSGML v1.0//EN
CALSCALE:GREGORIAN
METHOD:PUBLISH
X-WR-CALNAME:|  BogotArt
X-ORIGINAL-URL:https://bogotart.co
X-WR-CALDESC:Eventos para |  BogotArt
BEGIN:VTIMEZONE
TZID:America/Bogota
BEGIN:STANDARD
TZOFFSETFROM:-0500
TZOFFSETTO:-0500
TZNAME:-05
DTSTART:20220101T000000
END:STANDARD
END:VTIMEZONE
BEGIN:VEVENT
DTSTART;TZID=America/Bogota:20220702T113000
DTEND;TZID=America/Bogota:20220703T233000
DTSTAMP:20260419T105417
CREATED:20220622T190707Z
LAST-MODIFIED:20220622T190707Z
UID:294544-1656761400-1656891000@bogotart.co
SUMMARY:Festival Hip Hop al Parque 2022
DESCRIPTION:Vuelve al Parque Metropolitano Simón Bolívar este gran Festival al Parque. hipCon destacados MCs y DJs\, break dance\, jornadas académicas y actividades que ponen a Bogotá como Escenario se celebrarán los 25 años de Hip Hop al Parque\, una fiesta para los amantes de las distintas corrientes del hip hop en Bogotá\, en la que habrá lugar para artistas que representan distintas tendencias de la historia de este movimiento cultural en la capital. \nArtistas: \n\nMamborap\nArianna Puello\nSanta Salut\nFoyone\nMovimiento Original\nTrueno\nNatos y Waor\nDj Craze\nMary Hellen\nJHT\nKeke Minowa & Benny B\nInflumc\nJeyko On The Track\nDee Jay Bes\nSelene\nKazu\nDee Stebang\nDj Spizike\nEl Redcode\nDj Boka\nN. Hardem\nDj Hype Box\nEl Kalvo\nRuzto\n\nMás información acá
URL:https://bogotart.co/event/festival-hip-hop-al-parque-2022/
LOCATION:Parque Simon Bolivar
CATEGORIES:Conciertos,Festivales
ATTACH;FMTTYPE=image/jpeg:https://bogotart.co/bogotart/wp-content/uploads/2022/06/hip-hop.jpg
END:VEVENT
END:VCALENDAR