BEGIN:VCALENDAR
VERSION:2.0
PRODID:-//|  BogotArt - ECPv5.3.2.1//NONSGML v1.0//EN
CALSCALE:GREGORIAN
METHOD:PUBLISH
X-WR-CALNAME:|  BogotArt
X-ORIGINAL-URL:https://bogotart.co
X-WR-CALDESC:Eventos para |  BogotArt
BEGIN:VTIMEZONE
TZID:America/Bogota
BEGIN:STANDARD
TZOFFSETFROM:-0500
TZOFFSETTO:-0500
TZNAME:-05
DTSTART:20220101T000000
END:STANDARD
END:VTIMEZONE
BEGIN:VEVENT
DTSTART;TZID=America/Bogota:20220415T080000
DTEND;TZID=America/Bogota:20220515T170000
DTSTAMP:20260425T171327
CREATED:20220408T182330Z
LAST-MODIFIED:20220408T182330Z
UID:294364-1650009600-1652634000@bogotart.co
SUMMARY:El Inspector
DESCRIPTION:En esta ocasión\, y teniendo en cuenta el carácter de la obra en la que se refleja la corrupción de la Rusia de 1834\, y la muy actual en Colombia\, el Teatro Libre propone una puesta en escena que deja al descubierto la naturalidad de sus personajes y la sencillez de un montaje que da relevancia al argumento y con el que espera involucrar al público y convertirlo en un personaje más. Una apuesta que\, aparte de entretener\, también busca ese espacio al que\, como espectadores\, quisiéramos pertenecer. \nEl inspector es una suma de los mejores logros de la creación gogoliana: la rutina de una pequeña ciudad de provincia se ve convulsionada por el anuncio de que el gobierno central ha enviado a un inspector\, que puede llegar de incógnito en cualquier momento para realizar una visita fiscal. Esta posibilidad llena de pánico al alcalde y a los burócratas locales cuya deshonestidad en el manejo de los asuntos públicos sofoca la vida y negocios de los vecinos\, los cuales tampoco están libres de uno que otro “pecadito”. \nEfectivamente\, un funcionario venido desde San Petersburgo se instala en el pueblo y\, para su sorpresa\, se ve asediado\, tanto por las atenciones y sobornos de los dignatarios\, como por las quejas y regalos de los habitantes expoliados por el mal gobierno. Sin embargo\, y contrariando todas las expectativas\, el arribo del inspector va a dejar estupefactos a los personajes de la farsa. \nFunciones: 15 de abril al 15 de mayo / viernes y sábado 7:30 p.m. – domingos 3:00 p.m. Teatro Libre – sede Centro \nMás info y boletería acá
URL:https://bogotart.co/event/el-inspector/
LOCATION:Teatro Libre (Cll 62 # 9A – 65)
CATEGORIES:Convocatorias,Exposiciones
ATTACH;FMTTYPE=image/jpeg:https://bogotart.co/bogotart/wp-content/uploads/2022/04/El-inspector-afiche.jpg
END:VEVENT
END:VCALENDAR