BEGIN:VCALENDAR
VERSION:2.0
PRODID:-//|  BogotArt - ECPv5.3.2.1//NONSGML v1.0//EN
CALSCALE:GREGORIAN
METHOD:PUBLISH
X-WR-CALNAME:|  BogotArt
X-ORIGINAL-URL:https://bogotart.co
X-WR-CALDESC:Eventos para |  BogotArt
BEGIN:VTIMEZONE
TZID:America/Bogota
BEGIN:STANDARD
TZOFFSETFROM:-0500
TZOFFSETTO:-0500
TZNAME:-05
DTSTART:20220101T000000
END:STANDARD
END:VTIMEZONE
BEGIN:VEVENT
DTSTART;TZID=America/Bogota:20220420T080000
DTEND;TZID=America/Bogota:20220528T170000
DTSTAMP:20260425T154446
CREATED:20220408T181225Z
LAST-MODIFIED:20220408T181225Z
UID:294360-1650441600-1653757200@bogotart.co
SUMMARY:Dechado
DESCRIPTION:La exhibición DECHADO comparte los trabajos de un grupo variado de artistas que hacen uso del bordado como parte de su proceso\, ya sea constante u ocasionalmente. Contribuyen a la construcción de un lenguaje artístico que permite reflexionar alrededor de la práctica misma del bordado contemporáneo como acto de resistencia y de expresión que oscila entre lo gestual\, lo manual\, lo íntimo\, lo social y lo tecnológico. Cada uno de los artistas participantes plantea un uso del bordado que conduce a distintos conceptos\, como el poder chamánico de la aguja\, la construcción de las identidades femenina y masculina\, el trabajo colectivo\, la naturaleza\, el poder conductor de los hilos o la búsqueda de soportes no convencionales dentro de la práctica artística misma. \nArtistas participantes: Alejandra Fernández\, Ana Isabel Diez Zuluaga\, Carmenza Estrada\, Carmenza Kafarela\, Chirrete Golden\, Dijane\, Gloria Herazo\, Indira Gizé\, Iván Cano Mejía\, Iván Navarro\, Jorge Barco\, Lady Bionika\, Laura Renée Maier\, Manel Quintana\, Margaret Mariño\, Maria Camila Sanjinés\, Natalia Behaine\, Natalia Manzo\, Nicole Mazza\, Raúl Marroquín\, Ramón Laserna\, Seminario El Costurero\, Tatiana Castillo.
URL:https://bogotart.co/event/dechado/
LOCATION:Casa Hoffman (Cra 2a # 70 – 25)
CATEGORIES:Exposiciones
ATTACH;FMTTYPE=image/jpeg:https://bogotart.co/bogotart/wp-content/uploads/2022/04/4_DECHADO_invitacion.jpg
END:VEVENT
END:VCALENDAR