BEGIN:VCALENDAR
VERSION:2.0
PRODID:-//|  BogotArt - ECPv5.3.2.1//NONSGML v1.0//EN
CALSCALE:GREGORIAN
METHOD:PUBLISH
X-WR-CALNAME:|  BogotArt
X-ORIGINAL-URL:https://bogotart.co
X-WR-CALDESC:Eventos para |  BogotArt
BEGIN:VTIMEZONE
TZID:America/Bogota
BEGIN:STANDARD
TZOFFSETFROM:-0500
TZOFFSETTO:-0500
TZNAME:-05
DTSTART:20220101T000000
END:STANDARD
END:VTIMEZONE
BEGIN:VEVENT
DTSTART;TZID=America/Bogota:20220503T080000
DTEND;TZID=America/Bogota:20220616T170000
DTSTAMP:20260425T095135
CREATED:20220503T182218Z
LAST-MODIFIED:20220503T182218Z
UID:294394-1651564800-1655398800@bogotart.co
SUMMARY:Convocatoria Festival Internacional de Cine de Riosucio
DESCRIPTION:El festival de cine de Riosucio es un evento bienal que pretende reunir diversas manifestaciones audiovisuales de la región cafetera por medio de una selección oficial en competencia de largometrajes y cortometrajes; documental\, ficción\, experimental\, animación y videoclip*. A nivel nacional e internacional se seleccionará de forma cerrada y no competitiva alrededor de la temática carnavalera y de las representaciones del diablo y sus arquetipos\, en concordancia con la curaduría y la proyección de la mesa directiva del Festival para cada versión. \nBases: \n\nConvocatoria abierta para realizadorxs Colombianxs de Caldas\, Quindío\, Risaralda\, Valle\, Antioquia y Tolima. De igual manera pueden participar producciones con realizadorxs de otras regiones pero con personal de estos departamentos.\nLas obras seleccionadas pasa hacer parte del acervo del festival y la futura cinemateca Municipal.\nPara trabajos colombianos las categorías son:\n\nVideodecreto\nCortometraje experimental\nCortometraje animado\nCortometraje regional\nVideoclip\n\n\n\nPremio: \n\nPremios a las mejores producciones en cada categoría.\nMenciones de honor a los trabajos destacado\n\nMás información acá
URL:https://bogotart.co/event/convocatoria-festival-internacional-de-cine-de-riosucio/
CATEGORIES:Convocatorias
ATTACH;FMTTYPE=image/jpeg:https://bogotart.co/bogotart/wp-content/uploads/2022/05/convocatoria-fest-cine.jpg
END:VEVENT
END:VCALENDAR