BEGIN:VCALENDAR
VERSION:2.0
PRODID:-//|  BogotArt - ECPv5.3.2.1//NONSGML v1.0//EN
CALSCALE:GREGORIAN
METHOD:PUBLISH
X-WR-CALNAME:|  BogotArt
X-ORIGINAL-URL:https://bogotart.co
X-WR-CALDESC:Eventos para |  BogotArt
BEGIN:VTIMEZONE
TZID:America/Bogota
BEGIN:STANDARD
TZOFFSETFROM:-0500
TZOFFSETTO:-0500
TZNAME:-05
DTSTART:20220101T000000
END:STANDARD
END:VTIMEZONE
BEGIN:VEVENT
DTSTART;TZID=America/Bogota:20220725T080000
DTEND;TZID=America/Bogota:20220828T170000
DTSTAMP:20260419T112626
CREATED:20220725T161931Z
LAST-MODIFIED:20220725T161931Z
UID:294583-1658736000-1661706000@bogotart.co
SUMMARY:Convocatoria Arte en la Antártida
DESCRIPTION:Los imaginarios colectivos romantizan la Antártida como «otro mundo»\, como una zona especial del planeta muy lejana\, inhóspita y vacía. Estas imágenes simplifican y reducen las complejidades y riquezas de este continente\, los animales\, las plantas y las personas que allí habitan. ¿Qué nuevos imaginarios y narrativas podemos crear desde la Antártida? \nEl Proyecto Colombiano de Arte en la Antártida busca desarrollar un programa de residencias de investigación – creación en la Antártida\, en colaboración con la Comisión Colombiana del Océano y el Programa Antártico Colombiano\, convocando a artistas a crear nuevos imaginarios y narrativas ambientales desde este territorio. \nBases: \n\nPara artistas mayores de 18 años.\nColombianos o residentes de colombia.\n\nFormulario de inscripción acá \nMás info y bases completas acá
URL:https://bogotart.co/event/convocatoria-arte-en-la-antartida/
CATEGORIES:Convocatorias
ATTACH;FMTTYPE=image/png:https://bogotart.co/bogotart/wp-content/uploads/2022/07/convocatoria.png
END:VEVENT
END:VCALENDAR