BEGIN:VCALENDAR
VERSION:2.0
PRODID:-//|  BogotArt - ECPv5.3.2.1//NONSGML v1.0//EN
CALSCALE:GREGORIAN
METHOD:PUBLISH
X-WR-CALNAME:|  BogotArt
X-ORIGINAL-URL:https://bogotart.co
X-WR-CALDESC:Eventos para |  BogotArt
BEGIN:VTIMEZONE
TZID:America/Bogota
BEGIN:STANDARD
TZOFFSETFROM:-0500
TZOFFSETTO:-0500
TZNAME:-05
DTSTART:20220101T000000
END:STANDARD
END:VTIMEZONE
BEGIN:VEVENT
DTSTART;TZID=America/Bogota:20220503T080000
DTEND;TZID=America/Bogota:20220630T170000
DTSTAMP:20260425T062248
CREATED:20220503T194724Z
LAST-MODIFIED:20220503T194724Z
UID:294408-1651564800-1656608400@bogotart.co
SUMMARY:Calendario FOTOLAR23
DESCRIPTION:Bases: \n\nPueden concurrir todas las personas mayores de edad que lo deseen. Aquellos menores de edad que deseen concursar deberán rellenar la autorización del padre\, madre o tutor una vez que su galería fotográfica (12 fotos) haya sido preseleccionada para su valoración final por el jurado. La participación en este concurso implica la total aceptación de estas bases.\nTema: Fauna.\nCada concursante deberá enviar 12 fotos\, indicando en el nombre de archivo de cada una de ellas el mes para el que se propone la foto. (enero.jpg\, febrero.jpg… o 1.jpg\, 2.jpg…). Por el tamaño de calendario que imprimimos\, las fotos deberán ser en FORMATO HORIZONTAL Y EN COLOR\, Deberán hacerlo a través de correo electrónico a calendario@graficaslar.es.\n\nPremio: \n\nEl ganador del Concurso calendario FOTOLAR 2023 será agraciado con un premio en metálico de 300 euros.\n\nMás información acá
URL:https://bogotart.co/event/calendario-fotolar23/
CATEGORIES:Convocatorias
ATTACH;FMTTYPE=image/jpeg:https://bogotart.co/bogotart/wp-content/uploads/2022/05/concurso-fauna.jpg
END:VEVENT
END:VCALENDAR