BEGIN:VCALENDAR
VERSION:2.0
PRODID:-//|  BogotArt - ECPv5.3.2.1//NONSGML v1.0//EN
CALSCALE:GREGORIAN
METHOD:PUBLISH
X-WR-CALNAME:|  BogotArt
X-ORIGINAL-URL:https://bogotart.co
X-WR-CALDESC:Eventos para |  BogotArt
BEGIN:VTIMEZONE
TZID:America/Bogota
BEGIN:STANDARD
TZOFFSETFROM:-0500
TZOFFSETTO:-0500
TZNAME:-05
DTSTART:20220101T000000
END:STANDARD
END:VTIMEZONE
BEGIN:VEVENT
DTSTART;TZID=America/Bogota:20220610T080000
DTEND;TZID=America/Bogota:20220814T170000
DTSTAMP:20260420T003527
CREATED:20220601T001519Z
LAST-MODIFIED:20220601T001552Z
UID:294501-1654848000-1660496400@bogotart.co
SUMMARY:Beyond Van Gogh
DESCRIPTION:Sumérgete en la obra de Vincent Van Gogh en una experiencia digital multisensorial nunca antes vista. Beyond Van Gogh: The immersive Experience\, aterriza en Bogotá\, para que la puedas disfrutar a partir del 10 de junio. No te pierdas este impresionante viaje al mundo y la obra de Vincent Van Gogh y disfruta de una amplia variedad de obras de arte icónicas del artista\, representadas en un diseño único audiovisual. \nBoletería y más información en TuBoleta: Desde 92K hasta 287K \n 
URL:https://bogotart.co/event/beyond-van-gogh/
LOCATION:Corferias (Cra 37 # 24-67)
CATEGORIES:Exposiciones
ATTACH;FMTTYPE=image/jpeg:https://bogotart.co/bogotart/wp-content/uploads/2022/05/WhatsApp-Image-2022-05-31-at-6.29.jpg
END:VEVENT
END:VCALENDAR